BEGIN:VCALENDAR
VERSION:2.0
PRODID:-//wp-events-plugin.com//7.2.3.1//EN
BEGIN:VEVENT
UID:1@muenchner-allianz.de
DTSTART:20230118T190000Z
DTEND:20230118T210000Z
DTSTAMP:20230118T150734Z
URL:https://www.muenchner-allianz.de/events/muenchen-und-hochhaeuser-eine-
 frage-der-baukultur/
SUMMARY:München und Hochhäuser – Eine Frage der Baukultur?
DESCRIPTION:Das Thema Hochhäuser polarisiert und wird mit großen Emotione
 n diskutiert. Der Ruf nach mehr Bürgerbeteiligung ist laut\, ebenso wie d
 ie zwingende Forderung nach Wettbewerbsverfahren.\n\nWir wollen uns über 
 die Münchner Hochhaus-Studie an die Problematik herantasten und haben daz
 u Vertreter des Büros 03 Arch. eingeladen\, die vom Referat für Stadtpla
 nung und Bauordnung mit der Fortschreibung beauftragt wurden. Nach der ers
 ten Hochhausstudie 1977 und deren Überarbeitung 1995 wird mit der Studie 
 von 2020\, deren endgültige Ausarbeitung 2023 dem Stadtrat vorgelegt werd
 en wird\, ein Werkzeug erstellt\, das zu verwenden ist\, aber nicht angewe
 ndet werden muss. Florian Kurbasik von 03 Arch. wird uns den aktuellen Bea
 rbeitungsstand vorstellen.\n\nMit unseren Podiumsgästen:\n\n– Andrea Ge
 bhard\, Landschaftsarchitektin und Präsidentin der Bundesarchitektenkamme
 r\;\n\n– Marc Hofmann\, Architekt und Stadtplaner\, 03 Arch.\;\n\n– Wo
 lfgang Jean Stock\, Architekturhistoriker und Publizist\;\n\n– Christian
  Ude\, Vorsitzender des KulturForums und ehemaliger Oberbürgermeister der
  LH München\,\n\nwerden wir die Qualitätskriterien sowie die Vor- und Na
 chteile von hohen Gebäuden abwägen\, die spezielle Münchner Situation i
 n den Fokus nehmen und erörtern\, ob München und Hochhäuser zusammenpas
 sen.\n\nModeration: Renate Kürzdörfer\n\nMittwoch\, 18. Januar 2023\, 19
  Uhr\n\nOrt: Kulturzentrum LUISE\, Ruppertstr. 5\, München (U3\, U6 Pocci
 straße)
ATTACH;FMTTYPE=image/jpeg:https://i0.wp.com/www.muenchner-allianz.de/wp-co
 ntent/uploads/2023/01/00_ausstellung_hochhaeuser_plakat_a1.jpg?fit=849%2C1
 200&ssl=1
CATEGORIES:Podiumsdiskussion
LOCATION:Kulturzentrum LUISE\, Ruppertstr. 5\, München\, 80337\, Deutschla
 nd
X-APPLE-STRUCTURED-LOCATION;VALUE=URI;X-ADDRESS=Ruppertstr. 5\, München\, 
 80337\, Deutschland;X-APPLE-RADIUS=100;X-TITLE=Kulturzentrum LUISE:geo:0,0
END:VEVENT
END:VCALENDAR